BEGIN:VCALENDAR
VERSION:2.0
METHOD:PUBLISH
BEGIN:VEVENT
DTSTAMP:20260419T152547Z
DTSTART:20261007T124500Z
DTEND:20261007T201500Z
SUMMARY:Adult Day Program
LOCATION:Lloyd Watson Centre, Wilberforce
END:VEVENT
END:VCALENDAR
