BEGIN:VCALENDAR
VERSION:2.0
METHOD:PUBLISH
BEGIN:VEVENT
DTSTAMP:20260419T130039Z
DTSTART:20260909T124500Z
DTEND:20260909T201500Z
SUMMARY:Adult Day Program
LOCATION:Lloyd Watson Centre, Wilberforce
END:VEVENT
END:VCALENDAR
