BEGIN:VCALENDAR
VERSION:2.0
METHOD:PUBLISH
BEGIN:VEVENT
DTSTAMP:20260419T124830Z
DTSTART:20260812T124500Z
DTEND:20260812T201500Z
SUMMARY:Adult Day Program
LOCATION:Lloyd Watson Centre, Wilberforce
END:VEVENT
END:VCALENDAR
