BEGIN:VCALENDAR
VERSION:2.0
METHOD:PUBLISH
BEGIN:VEVENT
DTSTAMP:20260420T120337Z
DTSTART:20260718T130000Z
DTEND:20260719T020000Z
SUMMARY:Gigantic Penny Raffle
LOCATION:Keith Tallman Memorial Arena
END:VEVENT
END:VCALENDAR
