BEGIN:VCALENDAR
VERSION:2.0
METHOD:PUBLISH
BEGIN:VEVENT
DTSTAMP:20260423T015643Z
DTSTART:20260501T190000Z
DTEND:20260501T230000Z
SUMMARY:First Responders Day
LOCATION:Station 4, 2259 Loop Road, Wilberforce
END:VEVENT
END:VCALENDAR
