BEGIN:VCALENDAR
VERSION:2.0
METHOD:PUBLISH
BEGIN:VEVENT
DTSTAMP:20260422T130900Z
DTSTART:20260430T160000Z
DTEND:20260430T180000Z
SUMMARY:Community Outreach Services
LOCATION:Lloyd Watson Centre, Wilberforce
END:VEVENT
END:VCALENDAR
