BEGIN:VCALENDAR
VERSION:2.0
METHOD:PUBLISH
BEGIN:VEVENT
DTSTAMP:20260422T131804Z
DTSTART:20260423T150000Z
DTEND:20260423T170000Z
SUMMARY:Seniors Active Living: Savouring Stories
LOCATION:Highland Grove Library, 5373 Loop Road, Highland Grove
END:VEVENT
END:VCALENDAR
