BEGIN:VCALENDAR
VERSION:2.0
METHOD:PUBLISH
BEGIN:VEVENT
DTSTAMP:20260423T015347Z
DTSTART:20260418T183000Z
DTEND:20260418T203000Z
SUMMARY:Seniors Active Living: Games
LOCATION:Wilberforce Legion, 1007 Burleigh Road
END:VEVENT
END:VCALENDAR
