BEGIN:VCALENDAR
VERSION:2.0
METHOD:PUBLISH
BEGIN:VEVENT
DTSTAMP:20260422T130418Z
DTSTART:20260417T140000Z
DTEND:20260417T160000Z
SUMMARY:Seniors Active Living: Tech Help
LOCATION:Wilberforce Library
END:VEVENT
END:VCALENDAR
