BEGIN:VCALENDAR
VERSION:2.0
METHOD:PUBLISH
BEGIN:VEVENT
DTSTAMP:20260420T070548Z
DTSTART:20260416T140000Z
DTEND:20260416T153000Z
SUMMARY:Seniors Active Living: Art Class
LOCATION:Wilberforce Legion, 1007 Burleigh Road, Wilberforce
END:VEVENT
END:VCALENDAR
