BEGIN:VCALENDAR
VERSION:2.0
METHOD:PUBLISH
BEGIN:VEVENT
DTSTAMP:20260425T004017Z
DTSTART:20260414T230000Z
DTEND:20260415T010000Z
SUMMARY:Bid Euchre
LOCATION:Cardiff Community Centre  2747 Monck Road
END:VEVENT
END:VCALENDAR
