BEGIN:VCALENDAR
VERSION:2.0
METHOD:PUBLISH
BEGIN:VEVENT
DTSTAMP:20260422T141626Z
DTSTART:20260412T210000Z
DTEND:20260413T000000Z
SUMMARY:The Art of Deception, A Masterpiece of Bad Decisions
LOCATION:Wilberforce Legion, 1007 Burleigh Rd. Wilberforce
END:VEVENT
END:VCALENDAR
