BEGIN:VCALENDAR
VERSION:2.0
METHOD:PUBLISH
BEGIN:VEVENT
DTSTAMP:20260422T125459Z
DTSTART:20260409T180000Z
DTEND:20260409T200000Z
SUMMARY:Seniors Active Living: Needle Felting
LOCATION:Cardiff Library
END:VEVENT
END:VCALENDAR
