BEGIN:VCALENDAR
VERSION:2.0
METHOD:PUBLISH
BEGIN:VEVENT
DTSTAMP:20260423T015710Z
DTSTART:20260404T183000Z
DTEND:20260404T203000Z
SUMMARY:Seniors Active Living: Games
LOCATION:Wilberforce Legion, 1007 Burleigh Road
END:VEVENT
END:VCALENDAR
