BEGIN:VCALENDAR
VERSION:2.0
METHOD:PUBLISH
BEGIN:VEVENT
DTSTAMP:20260422T130009Z
DTSTART:20260404T140000Z
DTEND:20260404T160000Z
SUMMARY:Easter Egg Hunt
LOCATION:1043 Community Centre Road, Gooderham, Ontario K0M1R0
END:VEVENT
END:VCALENDAR
