BEGIN:VCALENDAR
VERSION:2.0
METHOD:PUBLISH
BEGIN:VEVENT
DTSTAMP:20260420T130224Z
DTSTART:20260404T130000Z
DTEND:20260404T180000Z
SUMMARY:Maple Syrup Festival
LOCATION:Lloyd Watson Community Centre, Wilberforce
END:VEVENT
END:VCALENDAR
