BEGIN:VCALENDAR
VERSION:2.0
METHOD:PUBLISH
BEGIN:VEVENT
DTSTAMP:20260420T071025Z
DTSTART:20260402T140000Z
DTEND:20260402T153000Z
SUMMARY:Seniors Active Living: Art Class
LOCATION:Wilberforce Legion, 1007 Burleigh Road, Wilberforce
END:VEVENT
END:VCALENDAR
