BEGIN:VCALENDAR
VERSION:2.0
METHOD:PUBLISH
BEGIN:VEVENT
DTSTAMP:20260420T113453Z
DTSTART:20241219T000000Z
DTEND:20241219T020000Z
SUMMARY:Casual Pickleball
LOCATION:Lloyd Watson Centre, 2249 Loop Rd., Wilberforce
END:VEVENT
END:VCALENDAR
