BEGIN:VCALENDAR
VERSION:2.0
METHOD:PUBLISH
BEGIN:VEVENT
DTSTAMP:20260420T095008Z
DTSTART:20241128T000000Z
DTEND:20241128T020000Z
SUMMARY:Casual Pickleball
LOCATION:Lloyd Watson Centre, 2249 Loop Rd., Wilberforce
END:VEVENT
END:VCALENDAR
