BEGIN:VCALENDAR
VERSION:2.0
METHOD:PUBLISH
BEGIN:VEVENT
DTSTAMP:20260420T071212Z
DTSTART:20241009T230000Z
DTEND:20241010T010000Z
SUMMARY:Casual Pickleball
LOCATION:Lloyd Watson Centre, 2249 Loop Rd., Wilberforce
END:VEVENT
END:VCALENDAR
