BEGIN:VCALENDAR
VERSION:2.0
METHOD:PUBLISH
BEGIN:VEVENT
DTSTAMP:20260420T064619Z
DTSTART:20240918T230000Z
DTEND:20240919T010000Z
SUMMARY:Casual Pickleball
LOCATION:Lloyd Watson Centre, 2249 Loop Rd., Wilberforce
END:VEVENT
END:VCALENDAR
