BEGIN:VCALENDAR
VERSION:2.0
METHOD:PUBLISH
BEGIN:VEVENT
DTSTAMP:20260420T070211Z
DTSTART:20240911T230000Z
DTEND:20240912T010000Z
SUMMARY:Casual Pickleball
LOCATION:Lloyd Watson Centre, 2249 Loop Rd., Wilberforce
END:VEVENT
END:VCALENDAR
