BEGIN:VCALENDAR
VERSION:2.0
METHOD:PUBLISH
BEGIN:VEVENT
DTSTAMP:20260421T155325Z
DTSTART:20240324T150000Z
DTEND:20240324T160000Z
SUMMARY:Men's Pick-up Hockey
LOCATION:Keith Tallman Memorial Arena
END:VEVENT
END:VCALENDAR
