BEGIN:VCALENDAR
VERSION:2.0
METHOD:PUBLISH
BEGIN:VEVENT
DTSTAMP:20260421T152746Z
DTSTART:20240317T150000Z
DTEND:20240317T160000Z
SUMMARY:Men's Pick-up Hockey
LOCATION:Keith Tallman Memorial Arena
END:VEVENT
END:VCALENDAR
