BEGIN:VCALENDAR
VERSION:2.0
METHOD:PUBLISH
BEGIN:VEVENT
DTSTAMP:20260421T123948Z
DTSTART:20240310T150000Z
DTEND:20240310T160000Z
SUMMARY:Men's Pick-up Hockey
LOCATION:Keith Tallman Memorial Arena
END:VEVENT
END:VCALENDAR
