BEGIN:VCALENDAR
VERSION:2.0
METHOD:PUBLISH
BEGIN:VEVENT
DTSTAMP:20260420T132832Z
DTSTART:20240228T013000Z
DTEND:20240228T023000Z
SUMMARY:Men's Pick-up Hockey
LOCATION:Keith Tallman Memorial Arena
END:VEVENT
END:VCALENDAR
