BEGIN:VCALENDAR
VERSION:2.0
METHOD:PUBLISH
BEGIN:VEVENT
DTSTAMP:20260421T141411Z
DTSTART:20240218T160000Z
DTEND:20240218T170000Z
SUMMARY:Men's Pick-up Hockey
LOCATION:Keith Tallman Memorial Arena
END:VEVENT
END:VCALENDAR
