BEGIN:VCALENDAR
VERSION:2.0
METHOD:PUBLISH
BEGIN:VEVENT
DTSTAMP:20260421T083036Z
DTSTART:20230314T190000Z
DTEND:20230314T200000Z
SUMMARY:Adults and Seniors Free Skating
LOCATION:Keith Tallman Memorial Arena, Wilberforce
END:VEVENT
END:VCALENDAR
