BEGIN:VCALENDAR
VERSION:2.0
METHOD:PUBLISH
BEGIN:VEVENT
DTSTAMP:20260425T004041Z
DTSTART:20230314T143000Z
DTEND:20230314T153000Z
SUMMARY:Origami Hour
LOCATION:1101 Holmes Rd, Wilberforce
END:VEVENT
END:VCALENDAR
