BEGIN:VCALENDAR
VERSION:2.0
METHOD:PUBLISH
BEGIN:VEVENT
DTSTAMP:20260425T172452Z
DTSTART:20230310T200000Z
DTEND:20230310T213000Z
SUMMARY:After-School Crafts
LOCATION:1101 Holmes Rd, Wilberforce
END:VEVENT
END:VCALENDAR
