BEGIN:VCALENDAR
VERSION:2.0
METHOD:PUBLISH
BEGIN:VEVENT
DTSTAMP:20260420T151038Z
DTSTART:20230131T200000Z
DTEND:20230131T210000Z
SUMMARY:Adults and Seniors Free Skating
LOCATION:Keith Tallman Memorial Arena, Wilberforce
END:VEVENT
END:VCALENDAR
