BEGIN:VCALENDAR
VERSION:2.0
METHOD:PUBLISH
BEGIN:VEVENT
DTSTAMP:20260422T164344Z
DTSTART:20220908T190000Z
DTEND:20220908T210000Z
SUMMARY:Pickle Ball
LOCATION:2256 Loop Road
END:VEVENT
END:VCALENDAR
