BEGIN:VCALENDAR
VERSION:2.0
METHOD:PUBLISH
BEGIN:VEVENT
DTSTAMP:20260419T141905Z
DTSTART:20220630T173000Z
DTEND:20220630T183000Z
SUMMARY:John Howard Society Outreach at Cardiff Library 
LOCATION:2778 Monck Road, Cardiff
END:VEVENT
END:VCALENDAR
