BEGIN:VCALENDAR
VERSION:2.0
METHOD:PUBLISH
BEGIN:VEVENT
DTSTAMP:20260420T111835Z
DTSTART:20220629T173000Z
DTEND:20220629T183000Z
SUMMARY:Academic Upgrading Outreach at Highland Grove Library
LOCATION:5373 Loop Road, Highland Grove
END:VEVENT
END:VCALENDAR
