BEGIN:VCALENDAR
VERSION:2.0
METHOD:PUBLISH
BEGIN:VEVENT
DTSTAMP:20260423T125632Z
DTSTART:20211215T190000Z
DTEND:20211215T190000Z
SUMMARY:Fun Darts
LOCATION:1007 Burleigh Road
END:VEVENT
END:VCALENDAR
