BEGIN:VCALENDAR
VERSION:2.0
METHOD:PUBLISH
BEGIN:VEVENT
DTSTAMP:20260422T173043Z
DTSTART:20211124T190000Z
DTEND:20211124T190000Z
SUMMARY:Fun Darts
LOCATION:1007 Burleigh Road
END:VEVENT
END:VCALENDAR
