BEGIN:VCALENDAR
VERSION:2.0
METHOD:PUBLISH
BEGIN:VEVENT
DTSTAMP:20260422T133035Z
DTSTART:20210922T180000Z
DTEND:20210922T180000Z
SUMMARY:Fun Darts
LOCATION:1007 Burleigh Road
END:VEVENT
END:VCALENDAR
